BEGIN:VCALENDAR
VERSION:2.0
PRODID:-//Priorité Jeunesse - ECPv6.15.18//NONSGML v1.0//EN
CALSCALE:GREGORIAN
METHOD:PUBLISH
X-WR-CALNAME:Priorité Jeunesse
X-ORIGINAL-URL:https://priorite-jeunesse.ca
X-WR-CALDESC:Événements pour Priorité Jeunesse
REFRESH-INTERVAL;VALUE=DURATION:PT1H
X-Robots-Tag:noindex
X-PUBLISHED-TTL:PT1H
BEGIN:VTIMEZONE
TZID:America/Toronto
BEGIN:DAYLIGHT
TZOFFSETFROM:-0500
TZOFFSETTO:-0400
TZNAME:EDT
DTSTART:20250309T070000
END:DAYLIGHT
BEGIN:STANDARD
TZOFFSETFROM:-0400
TZOFFSETTO:-0500
TZNAME:EST
DTSTART:20251102T060000
END:STANDARD
BEGIN:DAYLIGHT
TZOFFSETFROM:-0500
TZOFFSETTO:-0400
TZNAME:EDT
DTSTART:20260308T070000
END:DAYLIGHT
BEGIN:STANDARD
TZOFFSETFROM:-0400
TZOFFSETTO:-0500
TZNAME:EST
DTSTART:20261101T060000
END:STANDARD
BEGIN:DAYLIGHT
TZOFFSETFROM:-0500
TZOFFSETTO:-0400
TZNAME:EDT
DTSTART:20270314T070000
END:DAYLIGHT
BEGIN:STANDARD
TZOFFSETFROM:-0400
TZOFFSETTO:-0500
TZNAME:EST
DTSTART:20271107T060000
END:STANDARD
END:VTIMEZONE
BEGIN:VEVENT
DTSTART;TZID=America/Toronto:20260605T100000
DTEND;TZID=America/Toronto:20260605T110000
DTSTAMP:20260419T110215
CREATED:20260123T130100Z
LAST-MODIFIED:20260123T130100Z
UID:3065-1780653600-1780657200@priorite-jeunesse.ca
SUMMARY:Matin en famille à la Bibliothèque municipale de Rouyn-Noranda
DESCRIPTION:Les Matins en famille sont de retour pour offrir aux familles de tout-petits (0 à 6 ans) un moment de jeu\, de découverte et de plaisir partagé à la bibliothèque. \nAu programme : parcours de motricité\, coins de lecture\, jeux libres et espaces pensés pour bouger\, explorer et s’amuser à son rythme. Une belle occasion pour les enfants de découvrir la bibliothèque de façon ludique\, et pour les parents de partager un moment complice avec eux. \nGrâce à un partenariat avec Loisir et Sport Abitibi-Témiscamingue\, la bibliothèque s’est dotée de nouveaux jeux et de matériel spécialement conçus pour encourager le développement moteur des tout-petits. \nUne matinée conviviale pour apprivoiser la bibliothèque… en famille.
URL:https://priorite-jeunesse.ca/event/matin-en-famille-a-la-bibliotheque-municipale-de-rouyn-noranda-4/
LOCATION:Bibliothèque municipale\, 201\, Ave Dallaire\, Rouyn-Noranda\, Québec\, J9X 4T5\, Canada
END:VEVENT
BEGIN:VEVENT
DTSTART;TZID=America/Toronto:20260609T183000
DTEND;TZID=America/Toronto:20260609T193000
DTSTAMP:20260419T110215
CREATED:20260123T152715Z
LAST-MODIFIED:20260123T152836Z
UID:3140-1781029800-1781033400@priorite-jeunesse.ca
SUMMARY:Conférence Impact Pleine Conscience
DESCRIPTION:Conférence Impact Pleine Conscience : Intervenir avec impact auprès des enfants un outils à la fois – à la Bibliothèque municipale de Rouyn-Noranda
URL:https://priorite-jeunesse.ca/event/conference-impact-pleine-conscience/
LOCATION:Bibliothèque municipale\, 201\, Ave Dallaire\, Rouyn-Noranda\, Québec\, J9X 4T5\, Canada
END:VEVENT
BEGIN:VEVENT
DTSTART;TZID=America/Toronto:20260613T103000
DTEND;TZID=America/Toronto:20260613T113000
DTSTAMP:20260419T110215
CREATED:20260123T153130Z
LAST-MODIFIED:20260123T153130Z
UID:3144-1781346600-1781350200@priorite-jeunesse.ca
SUMMARY:Heure du conte des tout-petits - Eau
DESCRIPTION:
URL:https://priorite-jeunesse.ca/event/heure-du-conte-des-tout-petits-eau/
LOCATION:Bibliothèque municipale\, 201\, Ave Dallaire\, Rouyn-Noranda\, Québec\, J9X 4T5\, Canada
END:VEVENT
BEGIN:VEVENT
DTSTART;TZID=America/Toronto:20260613T110000
DTEND;TZID=America/Toronto:20260613T140000
DTSTAMP:20260419T110215
CREATED:20260123T154114Z
LAST-MODIFIED:20260123T154114Z
UID:3154-1781348400-1781359200@priorite-jeunesse.ca
SUMMARY:Su-Père Fête de Rouyn-Noranda
DESCRIPTION:Su-Père Fête de Rouyn-Noranda organisée par le Groupe IMAGE. Au parc Trémoy à la Presqu’île. \nProgrammation complète à venir : Su-Père Fête | Groupe IMAGE
URL:https://priorite-jeunesse.ca/event/su-pere-fete-de-rouyn-noranda/
LOCATION:Parc Trémoy à la Presqu’île\, Rouyn-Noranda\, Québec\, J9X 1C3\, Canada
ORGANIZER;CN="Groupe Image":MAILTO:info@groupeimage.org
END:VEVENT
BEGIN:VEVENT
DTSTART;TZID=America/Toronto:20260614T100000
DTEND;TZID=America/Toronto:20260614T110000
DTSTAMP:20260419T110215
CREATED:20260123T153038Z
LAST-MODIFIED:20260123T153038Z
UID:3145-1781431200-1781434800@priorite-jeunesse.ca
SUMMARY:Atelier parent-enfant - Yogi des émotions
DESCRIPTION:Atelier parent-enfant dynamique abordant la gestion des émotions des tout-petits entre 3 et 6 ans. Animé par Amélie Abel-Thibault\, éducatrice spécialisée en petite enfance au CISSSAT. À La Maison de la famille. \nInscription nécessaire au 819-764-5243.
URL:https://priorite-jeunesse.ca/event/atelier-parent-enfant-yogi-des-emotions-2/
LOCATION:Maison de la famille\, 380 Avenue Richard\, Local 110\, Rouyn-Noranda\, Québec\, J9X 4L3\, Canada
END:VEVENT
BEGIN:VEVENT
DTSTART;TZID=America/Toronto:20260616T180000
DTEND;TZID=America/Toronto:20260616T200000
DTSTAMP:20260419T110215
CREATED:20260123T153001Z
LAST-MODIFIED:20260123T153001Z
UID:3146-1781632800-1781640000@priorite-jeunesse.ca
SUMMARY:Rencontre périnatale pour les papas en virtuel par Teams
DESCRIPTION:Rencontre périnatale pour les papas en virtuel par Teams \nSur inscription : au 1 833 762-2241 ou au 08.rencontre.prenatale.rn@ssss.gouv.qc.ca
URL:https://priorite-jeunesse.ca/event/rencontre-perinatale-pour-les-papas-en-virtuel-par-teams-4/
LOCATION:Québec
END:VEVENT
END:VCALENDAR