BEGIN:VCALENDAR
VERSION:2.0
PRODID:-//Priorité Jeunesse - ECPv6.15.18//NONSGML v1.0//EN
CALSCALE:GREGORIAN
METHOD:PUBLISH
X-WR-CALNAME:Priorité Jeunesse
X-ORIGINAL-URL:https://priorite-jeunesse.ca
X-WR-CALDESC:Événements pour Priorité Jeunesse
REFRESH-INTERVAL;VALUE=DURATION:PT1H
X-Robots-Tag:noindex
X-PUBLISHED-TTL:PT1H
BEGIN:VTIMEZONE
TZID:America/Toronto
BEGIN:DAYLIGHT
TZOFFSETFROM:-0500
TZOFFSETTO:-0400
TZNAME:EDT
DTSTART:20250309T070000
END:DAYLIGHT
BEGIN:STANDARD
TZOFFSETFROM:-0400
TZOFFSETTO:-0500
TZNAME:EST
DTSTART:20251102T060000
END:STANDARD
BEGIN:DAYLIGHT
TZOFFSETFROM:-0500
TZOFFSETTO:-0400
TZNAME:EDT
DTSTART:20260308T070000
END:DAYLIGHT
BEGIN:STANDARD
TZOFFSETFROM:-0400
TZOFFSETTO:-0500
TZNAME:EST
DTSTART:20261101T060000
END:STANDARD
BEGIN:DAYLIGHT
TZOFFSETFROM:-0500
TZOFFSETTO:-0400
TZNAME:EDT
DTSTART:20270314T070000
END:DAYLIGHT
BEGIN:STANDARD
TZOFFSETFROM:-0400
TZOFFSETTO:-0500
TZNAME:EST
DTSTART:20271107T060000
END:STANDARD
END:VTIMEZONE
BEGIN:VEVENT
DTSTART;TZID=America/Toronto:20260303T180000
DTEND;TZID=America/Toronto:20260303T200000
DTSTAMP:20260419T094601
CREATED:20260123T131600Z
LAST-MODIFIED:20260123T131722Z
UID:3073-1772560800-1772568000@priorite-jeunesse.ca
SUMMARY:Rencontre périnatale pour les papas en virtuel par Teams
DESCRIPTION:Rencontre périnatale pour les papas en virtuel par Teams \nSur inscription : au 1 833 762-2241 ou au 08.rencontre.prenatale.rn@ssss.gouv.qc.ca
URL:https://priorite-jeunesse.ca/event/rencontre-perinatale-pour-les-papas-en-virtuel-par-teams/
LOCATION:Québec
END:VEVENT
BEGIN:VEVENT
DTSTART;TZID=America/Toronto:20260305T133000
DTEND;TZID=America/Toronto:20260305T143000
DTSTAMP:20260419T094601
CREATED:20260123T131913Z
LAST-MODIFIED:20260123T132006Z
UID:3027-1772717400-1772721000@priorite-jeunesse.ca
SUMMARY:Heure du compte de Raoul
DESCRIPTION:Raoul\, notre sympathique rat de bibliothèque\, est la mascotte du club de lecture jeunesse de la Bibliothèque municipale. Gratuit et ouvert aux enfants de 0 à 12 ans\, le club invite les jeunes à noter leurs lectures selon un thème mensuel\, à collectionner des autocollants et à participer à des activités spéciales. \nPrésent aussi dans plusieurs bibliothèques scolaires et de quartier (Cléricy\, Évain\, Bellecombe\, Montbeillard)\, le Club de Raoul permet de partager l’amour des histoires en s’amusant. \nSuivez Raoul sur Facebook pour découvrir ses amis\, ses vidéos et ses activités à ne pas manquer.
URL:https://priorite-jeunesse.ca/event/heure-du-compte-de-raoul/
LOCATION:Bibliothèque municipale\, 201\, Ave Dallaire\, Rouyn-Noranda\, Québec\, J9X 4T5\, Canada
END:VEVENT
BEGIN:VEVENT
DTSTART;TZID=America/Toronto:20260310T180000
DTEND;TZID=America/Toronto:20260310T200000
DTSTAMP:20260419T094601
CREATED:20260123T132251Z
LAST-MODIFIED:20260123T132316Z
UID:3076-1773165600-1773172800@priorite-jeunesse.ca
SUMMARY:Rencontre prénatale - Les changements corporels et l’activité pendant la grossesse
DESCRIPTION:Inscription nécessaire au 819-764-5243. \nLa Maison de la famille de Rouyn-Noranda offre le service de rencontres prénatales tout-à-fait gratuitement. Le programme animé par Roxanne Allen\, physiothérapeute\, comprend une série de rencontres gratuites visant à préparer les nouveaux parents à la réalité de la grossesse. \nLes rencontres ont lieu en soirée afin de favoriser la présence des deux partenaires et permettre les échanges entre les futurs parents\, dans un environnement inclusif\, sécuritaire et sans tabou. \nL’approche dynamique permettra aux participant.es de tester diverses techniques et outils. Le/la partenaire sera sollicité non pas uniquement comme accompagnateur.ice de la personne qui accouche\, mais comme soutien indispensable. \n** Ce programme se veut un complément d’information et ne remplace pas les rencontres prénatales en ligne offertes par le CISSSAT**
URL:https://priorite-jeunesse.ca/event/rencontre-prenatale-les-changements-corporels-et-lactivite-pendant-la-grossesse/
LOCATION:Maison de la famille\, 380 Avenue Richard\, Local 110\, Rouyn-Noranda\, Québec\, J9X 4L3\, Canada
END:VEVENT
BEGIN:VEVENT
DTSTART;TZID=America/Toronto:20260314T140000
DTEND;TZID=America/Toronto:20260314T150000
DTSTAMP:20260419T094601
CREATED:20260123T151150Z
LAST-MODIFIED:20260123T151150Z
UID:3119-1773496800-1773500400@priorite-jeunesse.ca
SUMMARY:Heure du conte des tout-petits - Les arts
DESCRIPTION:
URL:https://priorite-jeunesse.ca/event/heure-du-conte-des-tout-petits-les-arts/
LOCATION:Bibliothèque municipale\, 201\, Ave Dallaire\, Rouyn-Noranda\, Québec\, J9X 4T5\, Canada
END:VEVENT
BEGIN:VEVENT
DTSTART;TZID=America/Toronto:20260317T180000
DTEND;TZID=America/Toronto:20260317T200000
DTSTAMP:20260419T094601
CREATED:20260123T132411Z
LAST-MODIFIED:20260123T132411Z
UID:3078-1773770400-1773777600@priorite-jeunesse.ca
SUMMARY:Rencontre prénatale - La reprise de l’activité après la grossesse et le développement moteur du nouveau-né
DESCRIPTION:Inscription nécessaire au 819-764-5243. \nLa Maison de la famille de Rouyn-Noranda offre le service de rencontres prénatales tout-à-fait gratuitement. Le programme animé par Roxanne Allen\, physiothérapeute\, comprend une série de rencontres gratuites visant à préparer les nouveaux parents à la réalité de la grossesse. \nLes rencontres ont lieu en soirée afin de favoriser la présence des deux partenaires et permettre les échanges entre les futurs parents\, dans un environnement inclusif\, sécuritaire et sans tabou. \nL’approche dynamique permettra aux participant.es de tester diverses techniques et outils. Le/la partenaire sera sollicité non pas uniquement comme accompagnateur.ice de la personne qui accouche\, mais comme soutien indispensable. \n** Ce programme se veut un complément d’information et ne remplace pas les rencontres prénatales en ligne offertes par le CISSSAT**
URL:https://priorite-jeunesse.ca/event/rencontre-prenatale-la-reprise-de-lactivite-apres-la-grossesse-et-le-developpement-moteur-du-nouveau-ne/
LOCATION:Maison de la famille\, 380 Avenue Richard\, Local 110\, Rouyn-Noranda\, Québec\, J9X 4L3\, Canada
END:VEVENT
BEGIN:VEVENT
DTSTART;TZID=America/Toronto:20260321T100000
DTEND;TZID=America/Toronto:20260321T110000
DTSTAMP:20260419T094601
CREATED:20260123T151353Z
LAST-MODIFIED:20260123T151446Z
UID:3121-1774087200-1774090800@priorite-jeunesse.ca
SUMMARY:Atelier parent-enfant - Yogi des émotions
DESCRIPTION:Atelier parent-enfant dynamique abordant la gestion des émotions des tout-petits entre 3 et 6 ans. Animé par Amélie Abel-Thibault\, éducatrice spécialisée en petite enfance au CISSSAT. À La Maison de la famille. \nInscription nécessaire au 819-764-5243.
URL:https://priorite-jeunesse.ca/event/yogi-des-emotions/
LOCATION:Maison de la famille\, 380 Avenue Richard\, Local 110\, Rouyn-Noranda\, Québec\, J9X 4L3\, Canada
END:VEVENT
BEGIN:VEVENT
DTSTART;TZID=America/Toronto:20260324T180000
DTEND;TZID=America/Toronto:20260324T200000
DTSTAMP:20260419T094601
CREATED:20260123T132756Z
LAST-MODIFIED:20260123T132756Z
UID:3080-1774375200-1774382400@priorite-jeunesse.ca
SUMMARY:Rencontre prénatale - Présentation des ressources en périnatalité et visite de la salle d’accouchement
DESCRIPTION:Inscription nécessaire au 819-764-5243. \nLa Maison de la famille de Rouyn-Noranda offre le service de rencontres prénatales tout-à-fait gratuitement. Le programme animé par Roxanne Allen\, physiothérapeute\, comprend une série de rencontres gratuites visant à préparer les nouveaux parents à la réalité de la grossesse. \nLes rencontres ont lieu en soirée afin de favoriser la présence des deux partenaires et permettre les échanges entre les futurs parents\, dans un environnement inclusif\, sécuritaire et sans tabou. \nL’approche dynamique permettra aux participant.es de tester diverses techniques et outils. Le/la partenaire sera sollicité non pas uniquement comme accompagnateur.ice de la personne qui accouche\, mais comme soutien indispensable. \n** Ce programme se veut un complément d’information et ne remplace pas les rencontres prénatales en ligne offertes par le CISSSAT**
URL:https://priorite-jeunesse.ca/event/rencontre-prenatale-presentation-des-ressources-en-perinatalite-et-visite-de-la-salle-daccouchement/
LOCATION:Maison de la famille\, 380 Avenue Richard\, Local 110\, Rouyn-Noranda\, Québec\, J9X 4L3\, Canada
END:VEVENT
BEGIN:VEVENT
DTSTART;TZID=America/Toronto:20260327T100000
DTEND;TZID=America/Toronto:20260327T120000
DTSTAMP:20260419T094601
CREATED:20260123T125847Z
LAST-MODIFIED:20260123T135033Z
UID:3061-1774605600-1774612800@priorite-jeunesse.ca
SUMMARY:Matin en famille à la Bibliothèque municipale de Rouyn-Noranda
DESCRIPTION:Les Matins en famille sont de retour pour offrir aux familles de tout-petits (0 à 6 ans) un moment de jeu\, de découverte et de plaisir partagé à la bibliothèque. \nAu programme : parcours de motricité\, coins de lecture\, jeux libres et espaces pensés pour bouger\, explorer et s’amuser à son rythme. Une belle occasion pour les enfants de découvrir la bibliothèque de façon ludique\, et pour les parents de partager un moment complice avec eux. \nGrâce à un partenariat avec Loisir et Sport Abitibi-Témiscamingue\, la bibliothèque s’est dotée de nouveaux jeux et de matériel spécialement conçus pour encourager le développement moteur des tout-petits. \nUne matinée conviviale pour apprivoiser la bibliothèque… en famille.
URL:https://priorite-jeunesse.ca/event/matin-en-famille-a-la-bibliotheque-municipale-de-rouyn-noranda-2/
LOCATION:Bibliothèque municipale\, 201\, Ave Dallaire\, Rouyn-Noranda\, Québec\, J9X 4T5\, Canada
END:VEVENT
BEGIN:VEVENT
DTSTART;TZID=America/Toronto:20260329T103000
DTEND;TZID=America/Toronto:20260329T113000
DTSTAMP:20260419T094601
CREATED:20260123T133031Z
LAST-MODIFIED:20260123T133031Z
UID:3082-1774780200-1774783800@priorite-jeunesse.ca
SUMMARY:Enregistrement balado devant public - Sujet la coparentalité
DESCRIPTION:Enregistrement du Podcast Cultivons leur potentiel d’Action-Réussite devant public à la Bibliothèque municipale de Rouyn-Noranda.  \nLe balado Cultivons leur potentiel\n\n\n\n\nAction Réussite reçoit des personnes invitées pour parler de persévérance scolaire et de réussite éducative. Des partenaires de la communauté\, des parents et des adultes significatifs dans la vie des enfants qui apportent leur vision et leurs outils lors de discussions conviviales. On souhaite que cela puisse vous aider à jouer un rôle crucial dans le développement des jeunes. Une variété de sujets couvrant les périodes de la grossesse à la diplomation vous seront proposés pour cultiver le potentiel des petits et des grands. Ce balado est chaleureusement animé par Pascal Binette\, père\, enseignant en théâtre à l’École D’Iberville au Centre de services scolaire de Rouyn-Noranda\, directeur artistique des Productions Par la Petite Porte et bien plus encore.
URL:https://priorite-jeunesse.ca/event/enregistrement-balado-devant-public-sujet-la-coparentalite/
LOCATION:Bibliothèque municipale\, 201\, Ave Dallaire\, Rouyn-Noranda\, Québec\, J9X 4T5\, Canada
END:VEVENT
END:VCALENDAR