BEGIN:VCALENDAR
VERSION:2.0
PRODID:-//Priorité Jeunesse - ECPv6.15.18//NONSGML v1.0//EN
CALSCALE:GREGORIAN
METHOD:PUBLISH
X-ORIGINAL-URL:https://priorite-jeunesse.ca
X-WR-CALDESC:Événements pour Priorité Jeunesse
REFRESH-INTERVAL;VALUE=DURATION:PT1H
X-Robots-Tag:noindex
X-PUBLISHED-TTL:PT1H
BEGIN:VTIMEZONE
TZID:America/Toronto
BEGIN:DAYLIGHT
TZOFFSETFROM:-0500
TZOFFSETTO:-0400
TZNAME:EDT
DTSTART:20240310T070000
END:DAYLIGHT
BEGIN:STANDARD
TZOFFSETFROM:-0400
TZOFFSETTO:-0500
TZNAME:EST
DTSTART:20241103T060000
END:STANDARD
BEGIN:DAYLIGHT
TZOFFSETFROM:-0500
TZOFFSETTO:-0400
TZNAME:EDT
DTSTART:20250309T070000
END:DAYLIGHT
BEGIN:STANDARD
TZOFFSETFROM:-0400
TZOFFSETTO:-0500
TZNAME:EST
DTSTART:20251102T060000
END:STANDARD
BEGIN:DAYLIGHT
TZOFFSETFROM:-0500
TZOFFSETTO:-0400
TZNAME:EDT
DTSTART:20260308T070000
END:DAYLIGHT
BEGIN:STANDARD
TZOFFSETFROM:-0400
TZOFFSETTO:-0500
TZNAME:EST
DTSTART:20261101T060000
END:STANDARD
END:VTIMEZONE
BEGIN:VEVENT
DTSTART;TZID=America/Toronto:20251115T180000
DTEND;TZID=America/Toronto:20251115T210000
DTSTAMP:20260424T171918
CREATED:20251114T160001Z
LAST-MODIFIED:20251114T160001Z
UID:2869-1763229600-1763240400@priorite-jeunesse.ca
SUMMARY:Le sommeil des bébés et des jeunes enfants (en anglais)
DESCRIPTION:L’organisme communautaire Neighbours propose une présentation (en anglais) sur les habitudes de sommeil des bébés et des jeunes enfants. Les parents avec enfants (0-6 ans) sont invités. Places limitées\, inscription au 819 762-0882. \n\nPour info\, visiter la publication Facebook.\n\n 
URL:https://priorite-jeunesse.ca/event/le-sommeil-des-bebes-et-des-jeunes-enfants-en-anglais/
LOCATION:Neighbours\, 139\, rue Murdoch\, Rouyn-Noranda\, Québec\, J9X 1C9\, Canada
END:VEVENT
BEGIN:VEVENT
DTSTART;VALUE=DATE:20251117
DTEND;VALUE=DATE:20251124
DTSTAMP:20260424T171918
CREATED:20251114T154938Z
LAST-MODIFIED:20251114T160439Z
UID:2857-1763337600-1763942399@priorite-jeunesse.ca
SUMMARY:Grande semaine des tout-petits
DESCRIPTION:Exposition de l’œuvre collective de courte-pointe à la Bibliothèque municipale de Rouyn-Noranda et à la Maison de la famille de Rouyn-Noranda afin souligner le début de la Grande semaine des tout-petits.\nLa Bibliothèque municipale de Rouyn-Noranda aura des coins thématiques installés toute la semaine. Lecture douillette\, parcours moteur\, bricolage collectif\, éveil à la lecture et arts seront au rendez-vous.\nLire le communiqué de presse.
URL:https://priorite-jeunesse.ca/event/lancement-de-la-grande-semaine-des-tout-petits/
LOCATION:Bibliothèque municipale\, 201\, Ave Dallaire\, Rouyn-Noranda\, Québec\, J9X 4T5\, Canada
END:VEVENT
BEGIN:VEVENT
DTSTART;TZID=America/Toronto:20251121T100000
DTEND;TZID=America/Toronto:20251121T120000
DTSTAMP:20260424T171918
CREATED:20251114T160608Z
LAST-MODIFIED:20251114T160637Z
UID:2875-1763719200-1763726400@priorite-jeunesse.ca
SUMMARY:Matinée en famille
DESCRIPTION:La Bibliothèque municipale de Rouyn-Noranda aura des coins thématiques installés toute la semaine. Lecture douillette\, parcours moteur\, bricolage collectif\, éveil à la lecture et arts seront au rendez-vous.
URL:https://priorite-jeunesse.ca/event/matinee-en-famille/
LOCATION:Bibliothèque municipale\, 201\, Ave Dallaire\, Rouyn-Noranda\, Québec\, J9X 4T5\, Canada
END:VEVENT
BEGIN:VEVENT
DTSTART;TZID=America/Toronto:20251127T130000
DTEND;TZID=America/Toronto:20251127T190000
DTSTAMP:20260424T171918
CREATED:20251114T162009Z
LAST-MODIFIED:20251114T162245Z
UID:2886-1764248400-1764270000@priorite-jeunesse.ca
SUMMARY:Salon de l avenir
DESCRIPTION:Salon pour informer les jeunes vivant avec des limitations et leurs proches de toutes les options qui s’offrent à eux au moment de la transition vers l’âge adulte. Organisée par le Regroupement des associations de personnes handicapées de l’Abitibi-Témiscamingue. \nLien vers l’événement Facebook 
URL:https://priorite-jeunesse.ca/event/salon-de-lavenir/
LOCATION:Agora des arts\, 170\, ave Murdoch\, Rouyn-Noranda\, Québec\, J9X 1Z6\, Canada
END:VEVENT
END:VCALENDAR