BEGIN:VCALENDAR
VERSION:2.0
PRODID:-//Priorité Jeunesse - ECPv6.15.18//NONSGML v1.0//EN
CALSCALE:GREGORIAN
METHOD:PUBLISH
X-ORIGINAL-URL:https://priorite-jeunesse.ca
X-WR-CALDESC:Événements pour Priorité Jeunesse
REFRESH-INTERVAL;VALUE=DURATION:PT1H
X-Robots-Tag:noindex
X-PUBLISHED-TTL:PT1H
BEGIN:VTIMEZONE
TZID:America/Toronto
BEGIN:DAYLIGHT
TZOFFSETFROM:-0500
TZOFFSETTO:-0400
TZNAME:EDT
DTSTART:20230312T070000
END:DAYLIGHT
BEGIN:STANDARD
TZOFFSETFROM:-0400
TZOFFSETTO:-0500
TZNAME:EST
DTSTART:20231105T060000
END:STANDARD
BEGIN:DAYLIGHT
TZOFFSETFROM:-0500
TZOFFSETTO:-0400
TZNAME:EDT
DTSTART:20240310T070000
END:DAYLIGHT
BEGIN:STANDARD
TZOFFSETFROM:-0400
TZOFFSETTO:-0500
TZNAME:EST
DTSTART:20241103T060000
END:STANDARD
BEGIN:DAYLIGHT
TZOFFSETFROM:-0500
TZOFFSETTO:-0400
TZNAME:EDT
DTSTART:20250309T070000
END:DAYLIGHT
BEGIN:STANDARD
TZOFFSETFROM:-0400
TZOFFSETTO:-0500
TZNAME:EST
DTSTART:20251102T060000
END:STANDARD
END:VTIMEZONE
BEGIN:VEVENT
DTSTART;VALUE=DATE:20241017
DTEND;VALUE=DATE:20241018
DTSTAMP:20260425T102224
CREATED:20240917T124107Z
LAST-MODIFIED:20240917T142633Z
UID:1818-1729123200-1729209599@priorite-jeunesse.ca
SUMMARY:2e Rendez-vous inspirant
DESCRIPTION:Action-Réussite vous invite à son 2e rendez-vous inspirant. Réservez cette date à votre agenda!
URL:https://priorite-jeunesse.ca/event/2e-rendez-vous-inspirant/
LOCATION:Centre des Congrès\, 41\, 6e rue\, Rouyn-Noranda\, Québec\, Canada
END:VEVENT
BEGIN:VEVENT
DTSTART;VALUE=DATE:20241022
DTEND;VALUE=DATE:20241023
DTSTAMP:20260425T102224
CREATED:20240917T131029Z
LAST-MODIFIED:20240917T142158Z
UID:1844-1729555200-1729641599@priorite-jeunesse.ca
SUMMARY:Journée de formation réflexion en santé mentale positive
DESCRIPTION:Dans le cadre de la journée mondiale de la santé mentale prévue en octobre\, la RAIDDAT (Ressource d’aide et d’information en défense des droits de l’Abitibi-Témiscamingue)\, en collaboration avec des membres du Réseau des Éclaireurs et d’intervenant(e)s du CISSS-AT (Centre intégré de santé et de services sociaux de l’Abitibi-Témiscamingue) sont heureux de vous convier à une activité le 22 octobre prochain. Ce rendez-vous a pour objectif de promouvoir la santé mentale positive au sein des communautés\, le tout à travers une journée de « formation réflexion » axée sur les facteurs de protection en santé mentale positive. \nS’inscrire \n\nVoir l’affiche
URL:https://priorite-jeunesse.ca/event/journee-de-formation-reflexion-en-sante-mentale-positive/
LOCATION:Centre des Congrès\, 41\, 6e rue\, Rouyn-Noranda\, Québec\, Canada
END:VEVENT
BEGIN:VEVENT
DTSTART;VALUE=DATE:20241023
DTEND;VALUE=DATE:20241024
DTSTAMP:20260425T102224
CREATED:20240917T141441Z
LAST-MODIFIED:20240927T144043Z
UID:1871-1729641600-1729727999@priorite-jeunesse.ca
SUMMARY:Intervention éducative en contexte polarisé : comprendre et agir ensemble
DESCRIPTION:Vous êtes invités à réserver dès maintenant à votre agenda le 23 octobre 2024\, date à laquelle se déroulera l’activité Intervention éducative en contexte polarisé comprendre et agir ensemble. \nCette activité s’adresse au réseau scolaire et à ses partenaires du réseau de la santé et des services sociaux\, des services de police et des organismes communautaires. Elle se tiendra simultanément\, en présence\, dans toutes les régions du Québec. Ses objectifs : permettre de se doter d’une compréhension commune\, de dresser un portrait de la polarisation propre à chaque région et de planifier la coordination des actions à privilégier lors d’événements survenant en contexte scolaire polarisé.
URL:https://priorite-jeunesse.ca/event/intervention-educative-en-contexte-polarise-comprendre-et-agir-ensemble/
LOCATION:Québec
END:VEVENT
END:VCALENDAR