BEGIN:VCALENDAR
VERSION:2.0
PRODID:-//Priorité Jeunesse - ECPv6.15.18//NONSGML v1.0//EN
CALSCALE:GREGORIAN
METHOD:PUBLISH
X-WR-CALNAME:Priorité Jeunesse
X-ORIGINAL-URL:https://priorite-jeunesse.ca
X-WR-CALDESC:Événements pour Priorité Jeunesse
REFRESH-INTERVAL;VALUE=DURATION:PT1H
X-Robots-Tag:noindex
X-PUBLISHED-TTL:PT1H
BEGIN:VTIMEZONE
TZID:America/Toronto
BEGIN:DAYLIGHT
TZOFFSETFROM:-0500
TZOFFSETTO:-0400
TZNAME:EDT
DTSTART:20250309T070000
END:DAYLIGHT
BEGIN:STANDARD
TZOFFSETFROM:-0400
TZOFFSETTO:-0500
TZNAME:EST
DTSTART:20251102T060000
END:STANDARD
BEGIN:DAYLIGHT
TZOFFSETFROM:-0500
TZOFFSETTO:-0400
TZNAME:EDT
DTSTART:20260308T070000
END:DAYLIGHT
BEGIN:STANDARD
TZOFFSETFROM:-0400
TZOFFSETTO:-0500
TZNAME:EST
DTSTART:20261101T060000
END:STANDARD
BEGIN:DAYLIGHT
TZOFFSETFROM:-0500
TZOFFSETTO:-0400
TZNAME:EDT
DTSTART:20270314T070000
END:DAYLIGHT
BEGIN:STANDARD
TZOFFSETFROM:-0400
TZOFFSETTO:-0500
TZNAME:EST
DTSTART:20271107T060000
END:STANDARD
END:VTIMEZONE
BEGIN:VEVENT
DTSTART;VALUE=DATE:20260501
DTEND;VALUE=DATE:20260601
DTSTAMP:20260421T053906
CREATED:20260123T152053Z
LAST-MODIFIED:20260123T152053Z
UID:3132-1777593600-1780271999@priorite-jeunesse.ca
SUMMARY:Festival Petits bonheurs
DESCRIPTION:Des évènements culturels pour les tout-petits. Programmation complète à venir : petitsbonheursat.ca
URL:https://priorite-jeunesse.ca/event/festival-petits-bonheurs/
LOCATION:Québec
END:VEVENT
BEGIN:VEVENT
DTSTART;TZID=America/Toronto:20260512T093000
DTEND;TZID=America/Toronto:20260512T110000
DTSTAMP:20260421T053906
CREATED:20260123T152330Z
LAST-MODIFIED:20260123T152330Z
UID:3136-1778578200-1778583600@priorite-jeunesse.ca
SUMMARY:Atelier postnatal Lotus - Le développement du langage chez l’enfant
DESCRIPTION:A La Maison de la famille. Inscription nécessaire au 819-764-5243.
URL:https://priorite-jeunesse.ca/event/atelier-postnatal-lotus-le-developpement-du-langage-chez-lenfant/
LOCATION:Maison de la famille\, 380 Avenue Richard\, Local 110\, Rouyn-Noranda\, Québec\, J9X 4L3\, Canada
END:VEVENT
BEGIN:VEVENT
DTSTART;TZID=America/Toronto:20260512T180000
DTEND;TZID=America/Toronto:20260512T200000
DTSTAMP:20260421T053906
CREATED:20260123T152417Z
LAST-MODIFIED:20260123T152417Z
UID:3138-1778608800-1778616000@priorite-jeunesse.ca
SUMMARY:Rencontre périnatale pour les papas en virtuel par Teams
DESCRIPTION:Rencontre périnatale pour les papas en virtuel par Teams \nSur inscription : au 1 833 762-2241 ou au 08.rencontre.prenatale.rn@ssss.gouv.qc.ca
URL:https://priorite-jeunesse.ca/event/rencontre-perinatale-pour-les-papas-en-virtuel-par-teams-3/
LOCATION:Québec
END:VEVENT
END:VCALENDAR