BEGIN:VCALENDAR
VERSION:2.0
PRODID:-//Priorité Jeunesse - ECPv6.15.18//NONSGML v1.0//EN
CALSCALE:GREGORIAN
METHOD:PUBLISH
X-WR-CALNAME:Priorité Jeunesse
X-ORIGINAL-URL:https://priorite-jeunesse.ca
X-WR-CALDESC:Événements pour Priorité Jeunesse
REFRESH-INTERVAL;VALUE=DURATION:PT1H
X-Robots-Tag:noindex
X-PUBLISHED-TTL:PT1H
BEGIN:VTIMEZONE
TZID:America/Toronto
BEGIN:DAYLIGHT
TZOFFSETFROM:-0500
TZOFFSETTO:-0400
TZNAME:EDT
DTSTART:20250309T070000
END:DAYLIGHT
BEGIN:STANDARD
TZOFFSETFROM:-0400
TZOFFSETTO:-0500
TZNAME:EST
DTSTART:20251102T060000
END:STANDARD
BEGIN:DAYLIGHT
TZOFFSETFROM:-0500
TZOFFSETTO:-0400
TZNAME:EDT
DTSTART:20260308T070000
END:DAYLIGHT
BEGIN:STANDARD
TZOFFSETFROM:-0400
TZOFFSETTO:-0500
TZNAME:EST
DTSTART:20261101T060000
END:STANDARD
BEGIN:DAYLIGHT
TZOFFSETFROM:-0500
TZOFFSETTO:-0400
TZNAME:EDT
DTSTART:20270314T070000
END:DAYLIGHT
BEGIN:STANDARD
TZOFFSETFROM:-0400
TZOFFSETTO:-0500
TZNAME:EST
DTSTART:20271107T060000
END:STANDARD
END:VTIMEZONE
BEGIN:VEVENT
DTSTART;TZID=America/Toronto:20260222T133000
DTEND;TZID=America/Toronto:20260222T143000
DTSTAMP:20260419T125609
CREATED:20260123T155028Z
LAST-MODIFIED:20260123T155028Z
UID:3179-1771767000-1771770600@priorite-jeunesse.ca
SUMMARY:Heure du conte en famille - Les Olympiques - à la fête d'hiver de Rouyn-Noranda
DESCRIPTION:La fête d’hiver de Rouyn-Noranda est de retour pour une 39e édition avec une programmation qui réchauffera l’hiver et c’est GRATUIT !*Horaire à venir au courant de l’hiver
URL:https://priorite-jeunesse.ca/event/heure-du-conte-en-famille-les-olympiques-a-la-fete-dhiver-de-rouyn-noranda-2/
LOCATION:Site de la Fête d’hiver\, 1\, ave Thomson\, Rouyn-Noranda\, Québec\, J9X 0E5\, Canada
END:VEVENT
END:VCALENDAR