BEGIN:VCALENDAR
VERSION:2.0
PRODID:-//Priorité Jeunesse - ECPv6.15.18//NONSGML v1.0//EN
CALSCALE:GREGORIAN
METHOD:PUBLISH
X-WR-CALNAME:Priorité Jeunesse
X-ORIGINAL-URL:https://priorite-jeunesse.ca
X-WR-CALDESC:Événements pour Priorité Jeunesse
REFRESH-INTERVAL;VALUE=DURATION:PT1H
X-Robots-Tag:noindex
X-PUBLISHED-TTL:PT1H
BEGIN:VTIMEZONE
TZID:America/Toronto
BEGIN:DAYLIGHT
TZOFFSETFROM:-0500
TZOFFSETTO:-0400
TZNAME:EDT
DTSTART:20240310T070000
END:DAYLIGHT
BEGIN:STANDARD
TZOFFSETFROM:-0400
TZOFFSETTO:-0500
TZNAME:EST
DTSTART:20241103T060000
END:STANDARD
BEGIN:DAYLIGHT
TZOFFSETFROM:-0500
TZOFFSETTO:-0400
TZNAME:EDT
DTSTART:20250309T070000
END:DAYLIGHT
BEGIN:STANDARD
TZOFFSETFROM:-0400
TZOFFSETTO:-0500
TZNAME:EST
DTSTART:20251102T060000
END:STANDARD
BEGIN:DAYLIGHT
TZOFFSETFROM:-0500
TZOFFSETTO:-0400
TZNAME:EDT
DTSTART:20260308T070000
END:DAYLIGHT
BEGIN:STANDARD
TZOFFSETFROM:-0400
TZOFFSETTO:-0500
TZNAME:EST
DTSTART:20261101T060000
END:STANDARD
END:VTIMEZONE
BEGIN:VEVENT
DTSTART;TZID=America/Toronto:20250206T093000
DTEND;TZID=America/Toronto:20250206T170000
DTSTAMP:20260425T062722
CREATED:20241211T142757Z
LAST-MODIFIED:20241211T143006Z
UID:2191-1738834200-1738861200@priorite-jeunesse.ca
SUMMARY:Colloque de la Chaire Desjardins en développement des petites collectivités
DESCRIPTION:La Chaire Desjardins en développement des petites collectivités de l’Université du Québec en Abitibi Témiscamingue prépare l’édition 2025 de son colloque annuel. \nÀ vos agendas! \nNous vous invitons à inscrire à votre agenda la date de cet évènement intitulé « Accès au logement : Agir collectivement pour des solutions viables »\, qui se tiendra au Théâtre Meglab de Malartic\, le 6 février 2025\, de 9 h 30 à 17 h. Ce colloque est gratuit et s’adresse à toutes les personnes et organisations de la région de l’Abitibi Témiscamingue concernées par la crise du logement et désireuses de réfléchir ensemble à des solutions collectives. \nPour s’inscrire \n  \nPour informations supplémentaires 
URL:https://priorite-jeunesse.ca/event/colloque-de-la-chaire-desjardins-en-developpement-des-petites-collectivites/
LOCATION:Théâtre Meglab de Malartic\, 901 Rue Royale\, Malartic Quebec J0y 1z0\, Malartic\, Québec\, J0y 1z0\, Canada
END:VEVENT
END:VCALENDAR